BEGIN:VCALENDAR
PRODID:-//dvv-bw.de//dvv.Portalplattform//DE
VERSION:2.0
METHOD:PUBLISH
BEGIN:VEVENT
DTSTART:20260520T154000Z
DTEND:20260520T174000Z
DTSTAMP:20260422T003959Z
UID:4526455-4526353-1779228000000
SUMMARY:Digital Kompass auf Tour
LOCATION:Start in Schwörstadt
DESCRIPTION:Besuch der Ausstellung „attraversiamo...“\nBilder und Objekte von Karl Baureithel\nDiese Ausstellung ist eine Einladung zur Begegnung mit Menschen\, Realitäten und Abstraktionen\, zwischen dem Sichtbaren und dem Gefühlten. Lassen Sie uns gemeinsam diese Räume durchschreiten.\n \nReisebeschreibung: Fahrt mit Linienbus -> Bad Säckingen -> Besuch der Ausstellung im Haus Fischerzunft\, Apéro und Führung\nAbfahrt: 17:44 Haltestelle Feuerwehrhaus Schwörstadt (Bus C)\nRückfahrt: 20:29 Uhr Busbahnhof Bad Säckingen (Bus C)\nKosten: etwa 7\,00 Euro Busfahrtfahrten\nTeilnehmerzahl begrenzt! Das Haus Fischerzunft ist nicht für mobilitätseingeschränkte Personen geeignet!\nAnmeldung: via E-Mail an senioren@schwoerstadt.de oder Tel. 07762 5220-14\nAnmeldefrist: 15. Mai 2026
CLASS:PUBLIC
X-ALT-DESC;FMTTYPE=text/html:Besuch der Ausstellung &bdquo;attraversiamo...&ldquo;<br>Bilder und Objekte von Karl Baureithel<br>Diese Ausstellung ist eine Einladung zur Begegnung mit Menschen\, Realitäten und Abstraktionen\, zwischen dem Sichtbaren und dem Gefühlten. Lassen Sie uns gemeinsam diese Räume durchschreiten.<br> <br>Reisebeschreibung: Fahrt mit Linienbus -> Bad Säckingen -> Besuch der Ausstellung im Haus Fischerzunft\, Apéro und Führung<br>Abfahrt: 17:44 Haltestelle Feuerwehrhaus Schwörstadt (Bus C)<br>Rückfahrt: 20:29 Uhr Busbahnhof Bad Säckingen (Bus C)<br>Kosten: etwa 7\,00 Euro Busfahrtfahrten<br>Teilnehmerzahl begrenzt! Das Haus Fischerzunft ist nicht für mobilitätseingeschränkte Personen geeignet!<br>Anmeldung: via E-Mail an senioren@schwoerstadt.de oder Tel. 07762 5220-14<br>Anmeldefrist: 15. Mai 2026
END:VEVENT
END:VCALENDAR
