BEGIN:VCALENDAR
PRODID:-//dvv-bw.de//dvv.Portalplattform//DE
VERSION:2.0
METHOD:PUBLISH
BEGIN:VEVENT
DTSTART:20260430T220000Z
DTEND:20260430T220000Z
DTSTAMP:20260421T095934Z
UID:4255474-4255371-1777586400000
SUMMARY:1. Mai Hock
LOCATION:Vereinsheim Fischerverein
DESCRIPTION:Weitere Informationen folgen.
CLASS:PUBLIC
X-ALT-DESC;FMTTYPE=text/html:Weitere Informationen folgen.
END:VEVENT
BEGIN:VEVENT
DTSTART:20260430T220000Z
DTEND:20260430T220000Z
DTSTAMP:20260421T095934Z
UID:4255476-4255373-1777586400000
SUMMARY:1. Mai Schenke
LOCATION:Sommerfesthalle Dossenbach
DESCRIPTION:Weitere Informationen folgen.
CLASS:PUBLIC
X-ALT-DESC;FMTTYPE=text/html:Weitere Informationen folgen.
END:VEVENT
BEGIN:VEVENT
DTSTART:20260430T220000Z
DTEND:20260430T220000Z
DTSTAMP:20260421T095934Z
UID:4255475-4255372-1777586400000
SUMMARY:Maiwecken
LOCATION:Schwörstadt
DESCRIPTION:Weitere Informationen folgen.
CLASS:PUBLIC
X-ALT-DESC;FMTTYPE=text/html:Weitere Informationen folgen.
END:VEVENT
BEGIN:VEVENT
DTSTART:20260513T220000Z
DTEND:20260513T220000Z
DTSTAMP:20260421T095934Z
UID:4255479-4255376-1778709600000
SUMMARY:Vatertagshock
LOCATION:Vereinsheim Fischerverein
DESCRIPTION:Weitere Informationen folgen.
CLASS:PUBLIC
X-ALT-DESC;FMTTYPE=text/html:Weitere Informationen folgen.
END:VEVENT
BEGIN:VEVENT
DTSTART:20260513T220000Z
DTEND:20260513T220000Z
DTSTAMP:20260421T095934Z
UID:4255482-4255379-1778709600000
SUMMARY:Vatertagshock
LOCATION:Festschopf Schwörstadt
DESCRIPTION:Weitere Informationen folgen.
CLASS:PUBLIC
X-ALT-DESC;FMTTYPE=text/html:Weitere Informationen folgen.
END:VEVENT
BEGIN:VEVENT
DTSTART:20260513T220000Z
DTEND:20260513T220000Z
DTSTAMP:20260421T095934Z
UID:4255480-4255377-1778709600000
SUMMARY:Rettichessen
LOCATION:Schützenhaus Schwörstadt
DESCRIPTION:Weitere Informationen folgen.
CLASS:PUBLIC
X-ALT-DESC;FMTTYPE=text/html:Weitere Informationen folgen.
END:VEVENT
BEGIN:VEVENT
DTSTART:20260513T220000Z
DTEND:20260513T220000Z
DTSTAMP:20260421T095934Z
UID:4255481-4255378-1778709600000
SUMMARY:Vatertagshock
LOCATION:Sommerfesthalle Dossenbach
DESCRIPTION:Weitere Informationen folgen.
CLASS:PUBLIC
X-ALT-DESC;FMTTYPE=text/html:Weitere Informationen folgen.
END:VEVENT
BEGIN:VEVENT
DTSTART:20260703T220000Z
DTEND:20260705T220000Z
DTSTAMP:20260421T095934Z
RRULE;FREQ=DAILY;UNTIL=20260706T215959Z
UID:4255485-4255382-1783116000000
SUMMARY:Gartenfest
LOCATION:Festschopf Schwörstadt
DESCRIPTION:Weitere Informationen folgen.
CLASS:PUBLIC
X-ALT-DESC;FMTTYPE=text/html:Weitere Informationen folgen.
END:VEVENT
BEGIN:VEVENT
DTSTART:20260724T170000Z
DTEND:20260725T190000Z
DTSTAMP:20260421T095934Z
RRULE;FREQ=DAILY;UNTIL=20260725T215959Z
UID:4432403-4255384-1784844000000
SUMMARY:Brass'n'Voices
LOCATION:Sommerfesthalle Dossenbach
DESCRIPTION:Achtung\, Premiere ️\nErstmals feiern wir mit euch ein reines Stehkonzert! Macht euch bereit für volle Bewegungsfreiheit\, Tanzen und pure Energie direkt vor der Bühne.Erlebt einen mitreißenden Partyabend\, bei dem moderner Chorgesang auf die geballte Power einer Brass Band trifft! Freut euch auf energiegeladene Arrangements\, groovige Beats und eine neue Interpretation von Chorgesang – mal emotional\, mal explosiv\, aber immer mitreißend.\nWann & Wo?⁠Freitag\, 24. Juli & Samstag\, 25. Juli 2026Festhalle Dossenbach⁠Einlass: ab 19:00 Uhr⁠Beginn: 20:00 Uhr\n \nFestival-Feeling pur!Neben bester Musik erwartet euch eine entspannte Event-Location:•⁠ ⁠Foodtrucks: Abwechslungsreiche Leckereien für jeden Geschmack.•⁠ ⁠Barbetrieb: Kühle Drinks\, die euch durch den Abend begleiten.•⁠ ⁠Vibe: Ob Tanzen\, Mitsingen oder einfach Genießen – hier ist für alle etwas dabei!\n️\nTickets sichern & sparen ️Schnell sein lohnt sich\, besonders im März:•⁠ ⁠Early Bird (nur im März!): 20 Euro•⁠ ⁠Vorverkauf (ab 1. April): 25 Euro•⁠ ⁠Abendkasse: 30 Euro\nKarten können bei jedem Mitglied oder unter www.gv-d.de gekauft werden.
CLASS:PUBLIC
X-ALT-DESC;FMTTYPE=text/html:Achtung\, Premiere &#65039;<br>Erstmals feiern wir mit euch ein reines Stehkonzert! Macht euch bereit für volle Bewegungsfreiheit\, Tanzen und pure Energie direkt vor der Bühne.Erlebt einen mitreißenden Partyabend\, bei dem moderner Chorgesang auf die geballte Power einer Brass Band trifft! Freut euch auf energiegeladene Arrangements\, groovige Beats und eine neue Interpretation von Chorgesang &ndash; mal emotional\, mal explosiv\, aber immer mitreißend.<br>Wann & Wo?&#8288;Freitag\, 24. Juli & Samstag\, 25. Juli 2026Festhalle Dossenbach&#8288;Einlass: ab 19:00 Uhr&#8288;Beginn: 20:00 Uhr<br> <br>Festival-Feeling pur!Neben bester Musik erwartet euch eine entspannte Event-Location:&bull;&#8288; &#8288;Foodtrucks: Abwechslungsreiche Leckereien für jeden Geschmack.&bull;&#8288; &#8288;Barbetrieb: Kühle Drinks\, die euch durch den Abend begleiten.&bull;&#8288; &#8288;Vibe: Ob Tanzen\, Mitsingen oder einfach Genießen &ndash; hier ist für alle etwas dabei!<br>&#65039;<br>Tickets sichern & sparen &#65039;Schnell sein lohnt sich\, besonders im März:&bull;&#8288; &#8288;Early Bird (nur im März!): 20 Euro&bull;&#8288; &#8288;Vorverkauf (ab 1. April): 25 Euro&bull;&#8288; &#8288;Abendkasse: 30 Euro<br>Karten können bei jedem Mitglied oder unter www.gv-d.de gekauft werden.
END:VEVENT
BEGIN:VEVENT
DTSTART:20260730T220000Z
DTEND:20260730T220000Z
DTSTAMP:20260421T095934Z
UID:4255489-4255386-1785448800000
SUMMARY:Platzkonzert
DESCRIPTION:Weitere Informationen folgen.
CLASS:PUBLIC
X-ALT-DESC;FMTTYPE=text/html:Weitere Informationen folgen.
END:VEVENT
BEGIN:VEVENT
DTSTART:20260918T220000Z
DTEND:20260918T220000Z
DTSTAMP:20260421T095934Z
UID:4255490-4255387-1789768800000
SUMMARY:Oktoberfest
LOCATION:Festschopf Schwörstadt
DESCRIPTION:Weitere Informationen folgen.
CLASS:PUBLIC
X-ALT-DESC;FMTTYPE=text/html:Weitere Informationen folgen.
END:VEVENT
BEGIN:VEVENT
DTSTART:20261120T230000Z
DTEND:20261120T230000Z
DTSTAMP:20260421T095934Z
UID:4255494-4255391-1795215600000
SUMMARY:Theaterabend - Sportverein Schwörstadt
LOCATION:Turn- und Festhalle Schwörstadt
DESCRIPTION:Weitere Informationen folgen.
CLASS:PUBLIC
X-ALT-DESC;FMTTYPE=text/html:Weitere Informationen folgen.
END:VEVENT
BEGIN:VEVENT
DTSTART:20261127T230000Z
DTEND:20261127T230000Z
DTSTAMP:20260421T095934Z
UID:4255495-4255392-1795820400000
SUMMARY:Jahreskonzert
LOCATION:Bürgersaal Dossenbach\, Herweghstraße 15\, 79739 Schwörstadt
DESCRIPTION:Weitere Informationen folgen.
CLASS:PUBLIC
X-ALT-DESC;FMTTYPE=text/html:Weitere Informationen folgen.
END:VEVENT
BEGIN:VEVENT
DTSTART:20261212T230000Z
DTEND:20261212T230000Z
DTSTAMP:20260421T095934Z
UID:4255496-4255393-1797116400000
SUMMARY:Kirchenkonzert
DESCRIPTION:Weitere Informationen folgen.
CLASS:PUBLIC
X-ALT-DESC;FMTTYPE=text/html:Weitere Informationen folgen.
END:VEVENT
END:VCALENDAR
