BEGIN:VCALENDAR
PRODID:-//dvv-bw.de//dvv.Portalplattform//DE
VERSION:2.0
METHOD:PUBLISH
BEGIN:VEVENT
DTSTART:20260429T120000Z
DTEND:20260429T140000Z
DTSTAMP:20260421T075939Z
UID:4505668-4260857-1777413600000
SUMMARY:Digital Kompass Treffen
LOCATION:Rathaus Schwörstadt\, Hauptstr. 107\, 79739 Schwörstadt
DESCRIPTION:An diesem Tag können Sie sich mit Gleichgesinnten treffen\, Fragen stellen und gemeinsam mehr über die Chancen der digitalen Welt erfahren. Ob Sie Anfänger sind oder bereits einige Erfahrung haben\, dieses Treffen ist für alle gedacht.\nFolgende Themen werden an diesem Tag angeboten:\nHausnotruf\nSo funktioniert der Hausnotruf des Deutschen Roten Kreuzes.Referentin: Martina Robert\, Abteilungsleiterin\nErste Hilfe\nDefibrillator\, Herzinfarkt\, SchlaganfallReferent: Fabian Ratke\, Kreisausbildungsleiter\nWir freuen uns darauf\, Sie bei diesem Treffen zu begrüßen und gemeinsam eine unterhaltsame und lehrreiche Zeit zu verbringen. Gerne können Sie Ihr Handy\, Tablet oder Laptop zu diesem Treffen mitbringen.\nIhr Digital Kompass Team Schwörstadt
CLASS:PUBLIC
X-ALT-DESC;FMTTYPE=text/html:An diesem Tag können Sie sich mit Gleichgesinnten treffen\, Fragen stellen und gemeinsam mehr über die Chancen der digitalen Welt erfahren. Ob Sie Anfänger sind oder bereits einige Erfahrung haben\, dieses Treffen ist für alle gedacht.<br>Folgende Themen werden an diesem Tag angeboten:<br>Hausnotruf<br>So funktioniert der Hausnotruf des Deutschen Roten Kreuzes.Referentin: Martina Robert\, Abteilungsleiterin<br>Erste Hilfe<br>Defibrillator\, Herzinfarkt\, SchlaganfallReferent: Fabian Ratke\, Kreisausbildungsleiter<br>Wir freuen uns darauf\, Sie bei diesem Treffen zu begrüßen und gemeinsam eine unterhaltsame und lehrreiche Zeit zu verbringen. Gerne können Sie Ihr Handy\, Tablet oder Laptop zu diesem Treffen mitbringen.<br>Ihr Digital Kompass Team Schwörstadt
END:VEVENT
BEGIN:VEVENT
DTSTART:20260527T120000Z
DTEND:20260527T140000Z
DTSTAMP:20260421T075939Z
UID:4260961-4260858-1779832800000
SUMMARY:Digital Kompass Treffen
LOCATION:Rathaus Schwörstadt\, Hauptstr. 107\, 79739 Schwörstadt
DESCRIPTION:Digital Kompass Treffen
CLASS:PUBLIC
X-ALT-DESC;FMTTYPE=text/html:Digital Kompass Treffen
END:VEVENT
BEGIN:VEVENT
DTSTART:20260619T104500Z
DTEND:20260619T124500Z
DTSTAMP:20260421T075939Z
UID:4515500-4512018-1781820000000
SUMMARY:Digital Kompass auf Tour
LOCATION:Start in Schwörstadt
DESCRIPTION:Heitzmann Betriebsbesichtigung in Bad Krozingen\nReisebeschreibung: Schwörstadt -> Bad Krozingen-Bingen zur Besichtigung der Firma Heitzmann Produktion -> Eimeldingen\, Einkehr in der Winzerschenke Soder -> Schwörstadt\nAbfahrt: 12:45 Feuerwehrgerätehaus Schwörstadt\, Fahrgemeinschaften in privaten Pkws\nKosten: 25\,00 Euro pro Teilnehmer für Fahrt\, Führung\, Kaffee und Kuchen\nTeilnehmerzahl begrenzt!\nAnmeldung: via E-Mail an senioren@schwoerstadt.de oder Tel. 07762 5220-14\nAnmeldefrist: 29. Mai 2026
CLASS:PUBLIC
X-ALT-DESC;FMTTYPE=text/html:Heitzmann Betriebsbesichtigung in Bad Krozingen<br>Reisebeschreibung: Schwörstadt -> Bad Krozingen-Bingen zur Besichtigung der Firma Heitzmann Produktion -> Eimeldingen\, Einkehr in der Winzerschenke Soder -> Schwörstadt<br>Abfahrt: 12:45 Feuerwehrgerätehaus Schwörstadt\, Fahrgemeinschaften in privaten Pkws<br>Kosten: 25\,00 Euro pro Teilnehmer für Fahrt\, Führung\, Kaffee und Kuchen<br>Teilnehmerzahl begrenzt!<br>Anmeldung: via E-Mail an senioren@schwoerstadt.de oder Tel. 07762 5220-14<br>Anmeldefrist: 29. Mai 2026
END:VEVENT
BEGIN:VEVENT
DTSTART:20260624T120000Z
DTEND:20260624T140000Z
DTSTAMP:20260421T075939Z
UID:4260962-4260859-1782252000000
SUMMARY:Digital Kompass Treffen
LOCATION:Rathaus Schwörstadt\, Hauptstr. 107\, 79739 Schwörstadt
DESCRIPTION:Digital Kompass Treffen
CLASS:PUBLIC
X-ALT-DESC;FMTTYPE=text/html:Digital Kompass Treffen
END:VEVENT
BEGIN:VEVENT
DTSTART:20260923T120000Z
DTEND:20260923T140000Z
DTSTAMP:20260421T075939Z
UID:4260963-4260860-1790114400000
SUMMARY:Digital Kompass Treffen
LOCATION:Rathaus Schwörstadt\, Hauptstr. 107\, 79739 Schwörstadt
DESCRIPTION:Digital Kompass Treffen
CLASS:PUBLIC
X-ALT-DESC;FMTTYPE=text/html:Digital Kompass Treffen
END:VEVENT
BEGIN:VEVENT
DTSTART:20261028T130000Z
DTEND:20261028T150000Z
DTSTAMP:20260421T075939Z
UID:4260964-4260861-1793142000000
SUMMARY:Digital Kompass Treffen
LOCATION:Rathaus Schwörstadt\, Hauptstr. 107\, 79739 Schwörstadt
DESCRIPTION:Digital Kompass Treffen
CLASS:PUBLIC
X-ALT-DESC;FMTTYPE=text/html:Digital Kompass Treffen
END:VEVENT
BEGIN:VEVENT
DTSTART:20261125T130000Z
DTEND:20261125T150000Z
DTSTAMP:20260421T075939Z
UID:4260965-4260862-1795561200000
SUMMARY:Digital Kompass Treffen
LOCATION:Rathaus Schwörstadt\, Hauptstr. 107\, 79739 Schwörstadt
DESCRIPTION:Digital Kompass Treffen
CLASS:PUBLIC
X-ALT-DESC;FMTTYPE=text/html:Digital Kompass Treffen
END:VEVENT
BEGIN:VEVENT
DTSTART:20261216T130000Z
DTEND:20261216T150000Z
DTSTAMP:20260421T075939Z
UID:4260966-4260863-1797375600000
SUMMARY:Digital Kompass Treffen
LOCATION:Rathaus Schwörstadt\, Hauptstr. 107\, 79739 Schwörstadt
DESCRIPTION:Digital Kompass Treffen
CLASS:PUBLIC
X-ALT-DESC;FMTTYPE=text/html:Digital Kompass Treffen
END:VEVENT
END:VCALENDAR
