BEGIN:VCALENDAR
PRODID:-//dvv-bw.de//dvv.Portalplattform//DE
VERSION:2.0
METHOD:PUBLISH
BEGIN:VEVENT
DTSTART:20260711T220000Z
DTEND:20260711T220000Z
DTSTAMP:20260421T183058Z
UID:4255486-4255383-1783807200000
SUMMARY:Tag der offenen Tür
LOCATION:Vereinsheim Wassersportverein\, Eisenbahnstraße 5\, 79739 Schwörstadt
DESCRIPTION:Weitere Informationen folgen.
CLASS:PUBLIC
X-ALT-DESC;FMTTYPE=text/html:Weitere Informationen folgen.
END:VEVENT
BEGIN:VEVENT
DTSTART:20260729T220000Z
DTEND:20260801T220000Z
DTSTAMP:20260421T183058Z
RRULE;FREQ=DAILY;UNTIL=20260802T215959Z
UID:4255488-4255385-1785362400000
SUMMARY:Jugendcup
DESCRIPTION:Weitere Informationen folgen.
CLASS:PUBLIC
X-ALT-DESC;FMTTYPE=text/html:Weitere Informationen folgen.
END:VEVENT
END:VCALENDAR
