BEGIN:VCALENDAR
PRODID:-//dvv-bw.de//dvv.Portalplattform//DE
VERSION:2.0
METHOD:PUBLISH
BEGIN:VEVENT
DTSTART:20260430T220000Z
DTEND:20260430T220000Z
DTSTAMP:20260421T225257Z
UID:4255474-4255371-1777586400000
SUMMARY:1. Mai Hock
LOCATION:Vereinsheim Fischerverein\, Sendbachstraße 4\, 79739 Schwörstadt
DESCRIPTION:Weitere Informationen folgen.
CLASS:PUBLIC
X-ALT-DESC;FMTTYPE=text/html:Weitere Informationen folgen.
END:VEVENT
BEGIN:VEVENT
DTSTART:20260430T220000Z
DTEND:20260430T220000Z
DTSTAMP:20260421T225257Z
UID:4255476-4255373-1777586400000
SUMMARY:1. Mai Schenke
LOCATION:Sommerfesthalle Dossenbach\, Herweghstraße 10a\, 79739 Schwörstadt
DESCRIPTION:Weitere Informationen folgen.
CLASS:PUBLIC
X-ALT-DESC;FMTTYPE=text/html:Weitere Informationen folgen.
END:VEVENT
BEGIN:VEVENT
DTSTART:20260430T220000Z
DTEND:20260430T220000Z
DTSTAMP:20260421T225257Z
UID:4255475-4255372-1777586400000
SUMMARY:Maiwecken
LOCATION:Schwörstadt
DESCRIPTION:Weitere Informationen folgen.
CLASS:PUBLIC
X-ALT-DESC;FMTTYPE=text/html:Weitere Informationen folgen.
END:VEVENT
BEGIN:VEVENT
DTSTART:20260513T220000Z
DTEND:20260513T220000Z
DTSTAMP:20260421T225257Z
UID:4255479-4255376-1778709600000
SUMMARY:Vatertagshock
LOCATION:Vereinsheim Fischerverein\, Sendbachstraße 4\, 79739 Schwörstadt
DESCRIPTION:Weitere Informationen folgen.
CLASS:PUBLIC
X-ALT-DESC;FMTTYPE=text/html:Weitere Informationen folgen.
END:VEVENT
BEGIN:VEVENT
DTSTART:20260513T220000Z
DTEND:20260513T220000Z
DTSTAMP:20260421T225257Z
UID:4255481-4255378-1778709600000
SUMMARY:Vatertagshock
LOCATION:Sommerfesthalle Dossenbach\, Herweghstraße 10a\, 79739 Schwörstadt
DESCRIPTION:Weitere Informationen folgen.
CLASS:PUBLIC
X-ALT-DESC;FMTTYPE=text/html:Weitere Informationen folgen.
END:VEVENT
BEGIN:VEVENT
DTSTART:20260513T220000Z
DTEND:20260513T220000Z
DTSTAMP:20260421T225257Z
UID:4255480-4255377-1778709600000
SUMMARY:Rettichessen
LOCATION:Schützenhaus\, Wannenweg 8\, 79739 Schwörstadt
DESCRIPTION:Weitere Informationen folgen.
CLASS:PUBLIC
X-ALT-DESC;FMTTYPE=text/html:Weitere Informationen folgen.
END:VEVENT
BEGIN:VEVENT
DTSTART:20260513T220000Z
DTEND:20260513T220000Z
DTSTAMP:20260421T225257Z
UID:4255482-4255379-1778709600000
SUMMARY:Vatertagshock
LOCATION:Festschopf Schwörstadt\, Rheinbadstraße\, 79739 Schwörstadt
DESCRIPTION:Weitere Informationen folgen.
CLASS:PUBLIC
X-ALT-DESC;FMTTYPE=text/html:Weitere Informationen folgen.
END:VEVENT
END:VCALENDAR
